BEGIN:VCALENDAR
VERSION:2.0
PRODID:-//Gemeinde Moorenweis - ECPv6.15.17.1//NONSGML v1.0//EN
CALSCALE:GREGORIAN
METHOD:PUBLISH
X-WR-CALNAME:Gemeinde Moorenweis
X-ORIGINAL-URL:https://www.moorenweis.de
X-WR-CALDESC:Veranstaltungen für Gemeinde Moorenweis
REFRESH-INTERVAL;VALUE=DURATION:PT1H
X-Robots-Tag:noindex
X-PUBLISHED-TTL:PT1H
BEGIN:VTIMEZONE
TZID:Europe/Berlin
BEGIN:DAYLIGHT
TZOFFSETFROM:+0100
TZOFFSETTO:+0200
TZNAME:CEST
DTSTART:20250330T010000
END:DAYLIGHT
BEGIN:STANDARD
TZOFFSETFROM:+0200
TZOFFSETTO:+0100
TZNAME:CET
DTSTART:20251026T010000
END:STANDARD
BEGIN:DAYLIGHT
TZOFFSETFROM:+0100
TZOFFSETTO:+0200
TZNAME:CEST
DTSTART:20260329T010000
END:DAYLIGHT
BEGIN:STANDARD
TZOFFSETFROM:+0200
TZOFFSETTO:+0100
TZNAME:CET
DTSTART:20261025T010000
END:STANDARD
BEGIN:DAYLIGHT
TZOFFSETFROM:+0100
TZOFFSETTO:+0200
TZNAME:CEST
DTSTART:20270328T010000
END:DAYLIGHT
BEGIN:STANDARD
TZOFFSETFROM:+0200
TZOFFSETTO:+0100
TZNAME:CET
DTSTART:20271031T010000
END:STANDARD
END:VTIMEZONE
BEGIN:VEVENT
DTSTART;TZID=Europe/Berlin:20260422T130000
DTEND;TZID=Europe/Berlin:20260422T163000
DTSTAMP:20260421T122237
CREATED:20251125T091339Z
LAST-MODIFIED:20251203T122547Z
UID:10003105-1776862800-1776875400@www.moorenweis.de
SUMMARY:Schule
DESCRIPTION:kleiner Hallenteil
URL:https://www.moorenweis.de/termine/schule-3/2026-04-22/
CATEGORIES:Turnhallenbelegung
END:VEVENT
BEGIN:VEVENT
DTSTART;TZID=Europe/Berlin:20260429T130000
DTEND;TZID=Europe/Berlin:20260429T163000
DTSTAMP:20260421T122237
CREATED:20251125T091339Z
LAST-MODIFIED:20251203T122547Z
UID:10003106-1777467600-1777480200@www.moorenweis.de
SUMMARY:Schule
DESCRIPTION:kleiner Hallenteil
URL:https://www.moorenweis.de/termine/schule-3/2026-04-29/
CATEGORIES:Turnhallenbelegung
END:VEVENT
BEGIN:VEVENT
DTSTART;TZID=Europe/Berlin:20260506T130000
DTEND;TZID=Europe/Berlin:20260506T163000
DTSTAMP:20260421T122237
CREATED:20251125T091339Z
LAST-MODIFIED:20251203T122547Z
UID:10003107-1778072400-1778085000@www.moorenweis.de
SUMMARY:Schule
DESCRIPTION:kleiner Hallenteil
URL:https://www.moorenweis.de/termine/schule-3/2026-05-06/
CATEGORIES:Turnhallenbelegung
END:VEVENT
BEGIN:VEVENT
DTSTART;TZID=Europe/Berlin:20260513T130000
DTEND;TZID=Europe/Berlin:20260513T163000
DTSTAMP:20260421T122237
CREATED:20251125T091339Z
LAST-MODIFIED:20251203T122547Z
UID:10003108-1778677200-1778689800@www.moorenweis.de
SUMMARY:Schule
DESCRIPTION:kleiner Hallenteil
URL:https://www.moorenweis.de/termine/schule-3/2026-05-13/
CATEGORIES:Turnhallenbelegung
END:VEVENT
BEGIN:VEVENT
DTSTART;TZID=Europe/Berlin:20260520T130000
DTEND;TZID=Europe/Berlin:20260520T163000
DTSTAMP:20260421T122237
CREATED:20251125T091339Z
LAST-MODIFIED:20251203T122547Z
UID:10003109-1779282000-1779294600@www.moorenweis.de
SUMMARY:Schule
DESCRIPTION:kleiner Hallenteil
URL:https://www.moorenweis.de/termine/schule-3/2026-05-20/
CATEGORIES:Turnhallenbelegung
END:VEVENT
BEGIN:VEVENT
DTSTART;TZID=Europe/Berlin:20260527T130000
DTEND;TZID=Europe/Berlin:20260527T163000
DTSTAMP:20260421T122237
CREATED:20251125T091339Z
LAST-MODIFIED:20251203T122547Z
UID:10003110-1779886800-1779899400@www.moorenweis.de
SUMMARY:Schule
DESCRIPTION:kleiner Hallenteil
URL:https://www.moorenweis.de/termine/schule-3/2026-05-27/
CATEGORIES:Turnhallenbelegung
END:VEVENT
BEGIN:VEVENT
DTSTART;TZID=Europe/Berlin:20260603T130000
DTEND;TZID=Europe/Berlin:20260603T163000
DTSTAMP:20260421T122237
CREATED:20251125T091339Z
LAST-MODIFIED:20251203T122547Z
UID:10003111-1780491600-1780504200@www.moorenweis.de
SUMMARY:Schule
DESCRIPTION:kleiner Hallenteil
URL:https://www.moorenweis.de/termine/schule-3/2026-06-03/
CATEGORIES:Turnhallenbelegung
END:VEVENT
BEGIN:VEVENT
DTSTART;TZID=Europe/Berlin:20260610T130000
DTEND;TZID=Europe/Berlin:20260610T163000
DTSTAMP:20260421T122237
CREATED:20251125T091339Z
LAST-MODIFIED:20251203T122547Z
UID:10003112-1781096400-1781109000@www.moorenweis.de
SUMMARY:Schule
DESCRIPTION:kleiner Hallenteil
URL:https://www.moorenweis.de/termine/schule-3/2026-06-10/
CATEGORIES:Turnhallenbelegung
END:VEVENT
BEGIN:VEVENT
DTSTART;TZID=Europe/Berlin:20260617T130000
DTEND;TZID=Europe/Berlin:20260617T163000
DTSTAMP:20260421T122237
CREATED:20251125T091339Z
LAST-MODIFIED:20251203T122547Z
UID:10003113-1781701200-1781713800@www.moorenweis.de
SUMMARY:Schule
DESCRIPTION:kleiner Hallenteil
URL:https://www.moorenweis.de/termine/schule-3/2026-06-17/
CATEGORIES:Turnhallenbelegung
END:VEVENT
BEGIN:VEVENT
DTSTART;TZID=Europe/Berlin:20260624T130000
DTEND;TZID=Europe/Berlin:20260624T163000
DTSTAMP:20260421T122237
CREATED:20251125T091339Z
LAST-MODIFIED:20251203T122547Z
UID:10003114-1782306000-1782318600@www.moorenweis.de
SUMMARY:Schule
DESCRIPTION:kleiner Hallenteil
URL:https://www.moorenweis.de/termine/schule-3/2026-06-24/
CATEGORIES:Turnhallenbelegung
END:VEVENT
BEGIN:VEVENT
DTSTART;TZID=Europe/Berlin:20260701T130000
DTEND;TZID=Europe/Berlin:20260701T163000
DTSTAMP:20260421T122237
CREATED:20251125T091339Z
LAST-MODIFIED:20251203T122547Z
UID:10003115-1782910800-1782923400@www.moorenweis.de
SUMMARY:Schule
DESCRIPTION:kleiner Hallenteil
URL:https://www.moorenweis.de/termine/schule-3/2026-07-01/
CATEGORIES:Turnhallenbelegung
END:VEVENT
BEGIN:VEVENT
DTSTART;TZID=Europe/Berlin:20260708T130000
DTEND;TZID=Europe/Berlin:20260708T163000
DTSTAMP:20260421T122237
CREATED:20251125T091339Z
LAST-MODIFIED:20251203T122547Z
UID:10003116-1783515600-1783528200@www.moorenweis.de
SUMMARY:Schule
DESCRIPTION:kleiner Hallenteil
URL:https://www.moorenweis.de/termine/schule-3/2026-07-08/
CATEGORIES:Turnhallenbelegung
END:VEVENT
BEGIN:VEVENT
DTSTART;TZID=Europe/Berlin:20260715T130000
DTEND;TZID=Europe/Berlin:20260715T163000
DTSTAMP:20260421T122237
CREATED:20251125T091339Z
LAST-MODIFIED:20251203T122547Z
UID:10003117-1784120400-1784133000@www.moorenweis.de
SUMMARY:Schule
DESCRIPTION:kleiner Hallenteil
URL:https://www.moorenweis.de/termine/schule-3/2026-07-15/
CATEGORIES:Turnhallenbelegung
END:VEVENT
BEGIN:VEVENT
DTSTART;TZID=Europe/Berlin:20260722T130000
DTEND;TZID=Europe/Berlin:20260722T163000
DTSTAMP:20260421T122237
CREATED:20251125T091339Z
LAST-MODIFIED:20251203T122547Z
UID:10003118-1784725200-1784737800@www.moorenweis.de
SUMMARY:Schule
DESCRIPTION:kleiner Hallenteil
URL:https://www.moorenweis.de/termine/schule-3/2026-07-22/
CATEGORIES:Turnhallenbelegung
END:VEVENT
BEGIN:VEVENT
DTSTART;TZID=Europe/Berlin:20260729T130000
DTEND;TZID=Europe/Berlin:20260729T163000
DTSTAMP:20260421T122237
CREATED:20251125T091339Z
LAST-MODIFIED:20251203T122547Z
UID:10003119-1785330000-1785342600@www.moorenweis.de
SUMMARY:Schule
DESCRIPTION:kleiner Hallenteil
URL:https://www.moorenweis.de/termine/schule-3/2026-07-29/
CATEGORIES:Turnhallenbelegung
END:VEVENT
BEGIN:VEVENT
DTSTART;TZID=Europe/Berlin:20260805T130000
DTEND;TZID=Europe/Berlin:20260805T163000
DTSTAMP:20260421T122237
CREATED:20251125T091339Z
LAST-MODIFIED:20251203T122547Z
UID:10003120-1785934800-1785947400@www.moorenweis.de
SUMMARY:Schule
DESCRIPTION:kleiner Hallenteil
URL:https://www.moorenweis.de/termine/schule-3/2026-08-05/
CATEGORIES:Turnhallenbelegung
END:VEVENT
BEGIN:VEVENT
DTSTART;TZID=Europe/Berlin:20260812T130000
DTEND;TZID=Europe/Berlin:20260812T163000
DTSTAMP:20260421T122237
CREATED:20251125T091339Z
LAST-MODIFIED:20251203T122547Z
UID:10003121-1786539600-1786552200@www.moorenweis.de
SUMMARY:Schule
DESCRIPTION:kleiner Hallenteil
URL:https://www.moorenweis.de/termine/schule-3/2026-08-12/
CATEGORIES:Turnhallenbelegung
END:VEVENT
BEGIN:VEVENT
DTSTART;TZID=Europe/Berlin:20260819T130000
DTEND;TZID=Europe/Berlin:20260819T163000
DTSTAMP:20260421T122237
CREATED:20251125T091339Z
LAST-MODIFIED:20251203T122547Z
UID:10003122-1787144400-1787157000@www.moorenweis.de
SUMMARY:Schule
DESCRIPTION:kleiner Hallenteil
URL:https://www.moorenweis.de/termine/schule-3/2026-08-19/
CATEGORIES:Turnhallenbelegung
END:VEVENT
BEGIN:VEVENT
DTSTART;TZID=Europe/Berlin:20260826T130000
DTEND;TZID=Europe/Berlin:20260826T163000
DTSTAMP:20260421T122237
CREATED:20251125T091339Z
LAST-MODIFIED:20251203T122547Z
UID:10003123-1787749200-1787761800@www.moorenweis.de
SUMMARY:Schule
DESCRIPTION:kleiner Hallenteil
URL:https://www.moorenweis.de/termine/schule-3/2026-08-26/
CATEGORIES:Turnhallenbelegung
END:VEVENT
BEGIN:VEVENT
DTSTART;TZID=Europe/Berlin:20260902T130000
DTEND;TZID=Europe/Berlin:20260902T163000
DTSTAMP:20260421T122237
CREATED:20251125T091339Z
LAST-MODIFIED:20251203T122547Z
UID:10003124-1788354000-1788366600@www.moorenweis.de
SUMMARY:Schule
DESCRIPTION:kleiner Hallenteil
URL:https://www.moorenweis.de/termine/schule-3/2026-09-02/
CATEGORIES:Turnhallenbelegung
END:VEVENT
BEGIN:VEVENT
DTSTART;TZID=Europe/Berlin:20260909T130000
DTEND;TZID=Europe/Berlin:20260909T163000
DTSTAMP:20260421T122237
CREATED:20251125T091339Z
LAST-MODIFIED:20251203T122547Z
UID:10003125-1788958800-1788971400@www.moorenweis.de
SUMMARY:Schule
DESCRIPTION:kleiner Hallenteil
URL:https://www.moorenweis.de/termine/schule-3/2026-09-09/
CATEGORIES:Turnhallenbelegung
END:VEVENT
BEGIN:VEVENT
DTSTART;TZID=Europe/Berlin:20260916T130000
DTEND;TZID=Europe/Berlin:20260916T163000
DTSTAMP:20260421T122237
CREATED:20251125T091339Z
LAST-MODIFIED:20251203T122547Z
UID:10003126-1789563600-1789576200@www.moorenweis.de
SUMMARY:Schule
DESCRIPTION:kleiner Hallenteil
URL:https://www.moorenweis.de/termine/schule-3/2026-09-16/
CATEGORIES:Turnhallenbelegung
END:VEVENT
BEGIN:VEVENT
DTSTART;TZID=Europe/Berlin:20260923T130000
DTEND;TZID=Europe/Berlin:20260923T163000
DTSTAMP:20260421T122237
CREATED:20251125T091339Z
LAST-MODIFIED:20251203T122547Z
UID:10003127-1790168400-1790181000@www.moorenweis.de
SUMMARY:Schule
DESCRIPTION:kleiner Hallenteil
URL:https://www.moorenweis.de/termine/schule-3/2026-09-23/
CATEGORIES:Turnhallenbelegung
END:VEVENT
BEGIN:VEVENT
DTSTART;TZID=Europe/Berlin:20260930T130000
DTEND;TZID=Europe/Berlin:20260930T163000
DTSTAMP:20260421T122237
CREATED:20251125T091339Z
LAST-MODIFIED:20251203T122547Z
UID:10003128-1790773200-1790785800@www.moorenweis.de
SUMMARY:Schule
DESCRIPTION:kleiner Hallenteil
URL:https://www.moorenweis.de/termine/schule-3/2026-09-30/
CATEGORIES:Turnhallenbelegung
END:VEVENT
BEGIN:VEVENT
DTSTART;TZID=Europe/Berlin:20261007T130000
DTEND;TZID=Europe/Berlin:20261007T163000
DTSTAMP:20260421T122237
CREATED:20251125T091339Z
LAST-MODIFIED:20251203T122547Z
UID:10003129-1791378000-1791390600@www.moorenweis.de
SUMMARY:Schule
DESCRIPTION:kleiner Hallenteil
URL:https://www.moorenweis.de/termine/schule-3/2026-10-07/
CATEGORIES:Turnhallenbelegung
END:VEVENT
BEGIN:VEVENT
DTSTART;TZID=Europe/Berlin:20261014T130000
DTEND;TZID=Europe/Berlin:20261014T163000
DTSTAMP:20260421T122237
CREATED:20251125T091339Z
LAST-MODIFIED:20251203T122547Z
UID:10003130-1791982800-1791995400@www.moorenweis.de
SUMMARY:Schule
DESCRIPTION:kleiner Hallenteil
URL:https://www.moorenweis.de/termine/schule-3/2026-10-14/
CATEGORIES:Turnhallenbelegung
END:VEVENT
BEGIN:VEVENT
DTSTART;TZID=Europe/Berlin:20261021T130000
DTEND;TZID=Europe/Berlin:20261021T163000
DTSTAMP:20260421T122237
CREATED:20251125T091339Z
LAST-MODIFIED:20251203T122547Z
UID:10003131-1792587600-1792600200@www.moorenweis.de
SUMMARY:Schule
DESCRIPTION:kleiner Hallenteil
URL:https://www.moorenweis.de/termine/schule-3/2026-10-21/
CATEGORIES:Turnhallenbelegung
END:VEVENT
BEGIN:VEVENT
DTSTART;TZID=Europe/Berlin:20261028T130000
DTEND;TZID=Europe/Berlin:20261028T163000
DTSTAMP:20260421T122237
CREATED:20251125T091339Z
LAST-MODIFIED:20251203T122547Z
UID:10003132-1793192400-1793205000@www.moorenweis.de
SUMMARY:Schule
DESCRIPTION:kleiner Hallenteil
URL:https://www.moorenweis.de/termine/schule-3/2026-10-28/
CATEGORIES:Turnhallenbelegung
END:VEVENT
BEGIN:VEVENT
DTSTART;TZID=Europe/Berlin:20261104T130000
DTEND;TZID=Europe/Berlin:20261104T163000
DTSTAMP:20260421T122237
CREATED:20251125T091339Z
LAST-MODIFIED:20251203T122547Z
UID:10003133-1793797200-1793809800@www.moorenweis.de
SUMMARY:Schule
DESCRIPTION:kleiner Hallenteil
URL:https://www.moorenweis.de/termine/schule-3/2026-11-04/
CATEGORIES:Turnhallenbelegung
END:VEVENT
BEGIN:VEVENT
DTSTART;TZID=Europe/Berlin:20261111T130000
DTEND;TZID=Europe/Berlin:20261111T163000
DTSTAMP:20260421T122237
CREATED:20251125T091339Z
LAST-MODIFIED:20251203T122547Z
UID:10003134-1794402000-1794414600@www.moorenweis.de
SUMMARY:Schule
DESCRIPTION:kleiner Hallenteil
URL:https://www.moorenweis.de/termine/schule-3/2026-11-11/
CATEGORIES:Turnhallenbelegung
END:VEVENT
END:VCALENDAR