BEGIN:VCALENDAR
VERSION:2.0
PRODID:-//Gemeinde Moorenweis - ECPv6.15.17.1//NONSGML v1.0//EN
CALSCALE:GREGORIAN
METHOD:PUBLISH
X-WR-CALNAME:Gemeinde Moorenweis
X-ORIGINAL-URL:https://www.moorenweis.de
X-WR-CALDESC:Veranstaltungen für Gemeinde Moorenweis
REFRESH-INTERVAL;VALUE=DURATION:PT1H
X-Robots-Tag:noindex
X-PUBLISHED-TTL:PT1H
BEGIN:VTIMEZONE
TZID:Europe/Berlin
BEGIN:DAYLIGHT
TZOFFSETFROM:+0100
TZOFFSETTO:+0200
TZNAME:CEST
DTSTART:20250330T010000
END:DAYLIGHT
BEGIN:STANDARD
TZOFFSETFROM:+0200
TZOFFSETTO:+0100
TZNAME:CET
DTSTART:20251026T010000
END:STANDARD
BEGIN:DAYLIGHT
TZOFFSETFROM:+0100
TZOFFSETTO:+0200
TZNAME:CEST
DTSTART:20260329T010000
END:DAYLIGHT
BEGIN:STANDARD
TZOFFSETFROM:+0200
TZOFFSETTO:+0100
TZNAME:CET
DTSTART:20261025T010000
END:STANDARD
BEGIN:DAYLIGHT
TZOFFSETFROM:+0100
TZOFFSETTO:+0200
TZNAME:CEST
DTSTART:20270328T010000
END:DAYLIGHT
BEGIN:STANDARD
TZOFFSETFROM:+0200
TZOFFSETTO:+0100
TZNAME:CET
DTSTART:20271031T010000
END:STANDARD
END:VTIMEZONE
BEGIN:VEVENT
DTSTART;TZID=Europe/Berlin:20260423T080000
DTEND;TZID=Europe/Berlin:20260423T093000
DTSTAMP:20260420T013626
CREATED:20251126T082243Z
LAST-MODIFIED:20251204T152421Z
UID:10004898-1776931200-1776936600@www.moorenweis.de
SUMMARY:KiGa
DESCRIPTION:kleiner Hallenteil
URL:https://www.moorenweis.de/termine/kiga/2026-04-23/
CATEGORIES:Turnhallenbelegung
END:VEVENT
BEGIN:VEVENT
DTSTART;TZID=Europe/Berlin:20260430T080000
DTEND;TZID=Europe/Berlin:20260430T093000
DTSTAMP:20260420T013626
CREATED:20251126T082243Z
LAST-MODIFIED:20251204T152421Z
UID:10004899-1777536000-1777541400@www.moorenweis.de
SUMMARY:KiGa
DESCRIPTION:kleiner Hallenteil
URL:https://www.moorenweis.de/termine/kiga/2026-04-30/
CATEGORIES:Turnhallenbelegung
END:VEVENT
BEGIN:VEVENT
DTSTART;TZID=Europe/Berlin:20260507T080000
DTEND;TZID=Europe/Berlin:20260507T093000
DTSTAMP:20260420T013626
CREATED:20251126T082243Z
LAST-MODIFIED:20251204T152421Z
UID:10004900-1778140800-1778146200@www.moorenweis.de
SUMMARY:KiGa
DESCRIPTION:kleiner Hallenteil
URL:https://www.moorenweis.de/termine/kiga/2026-05-07/
CATEGORIES:Turnhallenbelegung
END:VEVENT
BEGIN:VEVENT
DTSTART;TZID=Europe/Berlin:20260514T080000
DTEND;TZID=Europe/Berlin:20260514T093000
DTSTAMP:20260420T013626
CREATED:20251126T082243Z
LAST-MODIFIED:20251204T152421Z
UID:10004901-1778745600-1778751000@www.moorenweis.de
SUMMARY:KiGa
DESCRIPTION:kleiner Hallenteil
URL:https://www.moorenweis.de/termine/kiga/2026-05-14/
CATEGORIES:Turnhallenbelegung
END:VEVENT
BEGIN:VEVENT
DTSTART;TZID=Europe/Berlin:20260521T080000
DTEND;TZID=Europe/Berlin:20260521T093000
DTSTAMP:20260420T013626
CREATED:20251126T082243Z
LAST-MODIFIED:20251204T152421Z
UID:10004902-1779350400-1779355800@www.moorenweis.de
SUMMARY:KiGa
DESCRIPTION:kleiner Hallenteil
URL:https://www.moorenweis.de/termine/kiga/2026-05-21/
CATEGORIES:Turnhallenbelegung
END:VEVENT
BEGIN:VEVENT
DTSTART;TZID=Europe/Berlin:20260528T080000
DTEND;TZID=Europe/Berlin:20260528T093000
DTSTAMP:20260420T013626
CREATED:20251126T082243Z
LAST-MODIFIED:20251204T152421Z
UID:10004903-1779955200-1779960600@www.moorenweis.de
SUMMARY:KiGa
DESCRIPTION:kleiner Hallenteil
URL:https://www.moorenweis.de/termine/kiga/2026-05-28/
CATEGORIES:Turnhallenbelegung
END:VEVENT
BEGIN:VEVENT
DTSTART;TZID=Europe/Berlin:20260604T080000
DTEND;TZID=Europe/Berlin:20260604T093000
DTSTAMP:20260420T013626
CREATED:20251126T082243Z
LAST-MODIFIED:20251204T152421Z
UID:10004904-1780560000-1780565400@www.moorenweis.de
SUMMARY:KiGa
DESCRIPTION:kleiner Hallenteil
URL:https://www.moorenweis.de/termine/kiga/2026-06-04/
CATEGORIES:Turnhallenbelegung
END:VEVENT
BEGIN:VEVENT
DTSTART;TZID=Europe/Berlin:20260611T080000
DTEND;TZID=Europe/Berlin:20260611T093000
DTSTAMP:20260420T013626
CREATED:20251126T082243Z
LAST-MODIFIED:20251204T152421Z
UID:10004905-1781164800-1781170200@www.moorenweis.de
SUMMARY:KiGa
DESCRIPTION:kleiner Hallenteil
URL:https://www.moorenweis.de/termine/kiga/2026-06-11/
CATEGORIES:Turnhallenbelegung
END:VEVENT
BEGIN:VEVENT
DTSTART;TZID=Europe/Berlin:20260618T080000
DTEND;TZID=Europe/Berlin:20260618T093000
DTSTAMP:20260420T013626
CREATED:20251126T082243Z
LAST-MODIFIED:20251204T152421Z
UID:10004906-1781769600-1781775000@www.moorenweis.de
SUMMARY:KiGa
DESCRIPTION:kleiner Hallenteil
URL:https://www.moorenweis.de/termine/kiga/2026-06-18/
CATEGORIES:Turnhallenbelegung
END:VEVENT
BEGIN:VEVENT
DTSTART;TZID=Europe/Berlin:20260625T080000
DTEND;TZID=Europe/Berlin:20260625T093000
DTSTAMP:20260420T013626
CREATED:20251126T082243Z
LAST-MODIFIED:20251204T152421Z
UID:10004907-1782374400-1782379800@www.moorenweis.de
SUMMARY:KiGa
DESCRIPTION:kleiner Hallenteil
URL:https://www.moorenweis.de/termine/kiga/2026-06-25/
CATEGORIES:Turnhallenbelegung
END:VEVENT
BEGIN:VEVENT
DTSTART;TZID=Europe/Berlin:20260702T080000
DTEND;TZID=Europe/Berlin:20260702T093000
DTSTAMP:20260420T013626
CREATED:20251126T082243Z
LAST-MODIFIED:20251204T152421Z
UID:10004908-1782979200-1782984600@www.moorenweis.de
SUMMARY:KiGa
DESCRIPTION:kleiner Hallenteil
URL:https://www.moorenweis.de/termine/kiga/2026-07-02/
CATEGORIES:Turnhallenbelegung
END:VEVENT
BEGIN:VEVENT
DTSTART;TZID=Europe/Berlin:20260709T080000
DTEND;TZID=Europe/Berlin:20260709T093000
DTSTAMP:20260420T013626
CREATED:20251126T082243Z
LAST-MODIFIED:20251204T152421Z
UID:10004909-1783584000-1783589400@www.moorenweis.de
SUMMARY:KiGa
DESCRIPTION:kleiner Hallenteil
URL:https://www.moorenweis.de/termine/kiga/2026-07-09/
CATEGORIES:Turnhallenbelegung
END:VEVENT
BEGIN:VEVENT
DTSTART;TZID=Europe/Berlin:20260716T080000
DTEND;TZID=Europe/Berlin:20260716T093000
DTSTAMP:20260420T013626
CREATED:20251126T082243Z
LAST-MODIFIED:20251204T152421Z
UID:10004910-1784188800-1784194200@www.moorenweis.de
SUMMARY:KiGa
DESCRIPTION:kleiner Hallenteil
URL:https://www.moorenweis.de/termine/kiga/2026-07-16/
CATEGORIES:Turnhallenbelegung
END:VEVENT
BEGIN:VEVENT
DTSTART;TZID=Europe/Berlin:20260723T080000
DTEND;TZID=Europe/Berlin:20260723T093000
DTSTAMP:20260420T013626
CREATED:20251126T082243Z
LAST-MODIFIED:20251204T152421Z
UID:10004911-1784793600-1784799000@www.moorenweis.de
SUMMARY:KiGa
DESCRIPTION:kleiner Hallenteil
URL:https://www.moorenweis.de/termine/kiga/2026-07-23/
CATEGORIES:Turnhallenbelegung
END:VEVENT
BEGIN:VEVENT
DTSTART;TZID=Europe/Berlin:20260730T080000
DTEND;TZID=Europe/Berlin:20260730T093000
DTSTAMP:20260420T013626
CREATED:20251126T082243Z
LAST-MODIFIED:20251204T152421Z
UID:10004912-1785398400-1785403800@www.moorenweis.de
SUMMARY:KiGa
DESCRIPTION:kleiner Hallenteil
URL:https://www.moorenweis.de/termine/kiga/2026-07-30/
CATEGORIES:Turnhallenbelegung
END:VEVENT
BEGIN:VEVENT
DTSTART;TZID=Europe/Berlin:20260806T080000
DTEND;TZID=Europe/Berlin:20260806T093000
DTSTAMP:20260420T013626
CREATED:20251126T082243Z
LAST-MODIFIED:20251204T152421Z
UID:10004913-1786003200-1786008600@www.moorenweis.de
SUMMARY:KiGa
DESCRIPTION:kleiner Hallenteil
URL:https://www.moorenweis.de/termine/kiga/2026-08-06/
CATEGORIES:Turnhallenbelegung
END:VEVENT
BEGIN:VEVENT
DTSTART;TZID=Europe/Berlin:20260813T080000
DTEND;TZID=Europe/Berlin:20260813T093000
DTSTAMP:20260420T013626
CREATED:20251126T082243Z
LAST-MODIFIED:20251204T152421Z
UID:10004914-1786608000-1786613400@www.moorenweis.de
SUMMARY:KiGa
DESCRIPTION:kleiner Hallenteil
URL:https://www.moorenweis.de/termine/kiga/2026-08-13/
CATEGORIES:Turnhallenbelegung
END:VEVENT
BEGIN:VEVENT
DTSTART;TZID=Europe/Berlin:20260820T080000
DTEND;TZID=Europe/Berlin:20260820T093000
DTSTAMP:20260420T013626
CREATED:20251126T082243Z
LAST-MODIFIED:20251204T152421Z
UID:10004915-1787212800-1787218200@www.moorenweis.de
SUMMARY:KiGa
DESCRIPTION:kleiner Hallenteil
URL:https://www.moorenweis.de/termine/kiga/2026-08-20/
CATEGORIES:Turnhallenbelegung
END:VEVENT
BEGIN:VEVENT
DTSTART;TZID=Europe/Berlin:20260827T080000
DTEND;TZID=Europe/Berlin:20260827T093000
DTSTAMP:20260420T013626
CREATED:20251126T082243Z
LAST-MODIFIED:20251204T152421Z
UID:10004916-1787817600-1787823000@www.moorenweis.de
SUMMARY:KiGa
DESCRIPTION:kleiner Hallenteil
URL:https://www.moorenweis.de/termine/kiga/2026-08-27/
CATEGORIES:Turnhallenbelegung
END:VEVENT
BEGIN:VEVENT
DTSTART;TZID=Europe/Berlin:20260903T080000
DTEND;TZID=Europe/Berlin:20260903T093000
DTSTAMP:20260420T013626
CREATED:20251126T082243Z
LAST-MODIFIED:20251204T152421Z
UID:10004917-1788422400-1788427800@www.moorenweis.de
SUMMARY:KiGa
DESCRIPTION:kleiner Hallenteil
URL:https://www.moorenweis.de/termine/kiga/2026-09-03/
CATEGORIES:Turnhallenbelegung
END:VEVENT
BEGIN:VEVENT
DTSTART;TZID=Europe/Berlin:20260910T080000
DTEND;TZID=Europe/Berlin:20260910T093000
DTSTAMP:20260420T013626
CREATED:20251126T082243Z
LAST-MODIFIED:20251204T152421Z
UID:10004918-1789027200-1789032600@www.moorenweis.de
SUMMARY:KiGa
DESCRIPTION:kleiner Hallenteil
URL:https://www.moorenweis.de/termine/kiga/2026-09-10/
CATEGORIES:Turnhallenbelegung
END:VEVENT
BEGIN:VEVENT
DTSTART;TZID=Europe/Berlin:20260917T080000
DTEND;TZID=Europe/Berlin:20260917T093000
DTSTAMP:20260420T013626
CREATED:20251126T082243Z
LAST-MODIFIED:20251204T152421Z
UID:10004919-1789632000-1789637400@www.moorenweis.de
SUMMARY:KiGa
DESCRIPTION:kleiner Hallenteil
URL:https://www.moorenweis.de/termine/kiga/2026-09-17/
CATEGORIES:Turnhallenbelegung
END:VEVENT
BEGIN:VEVENT
DTSTART;TZID=Europe/Berlin:20260924T080000
DTEND;TZID=Europe/Berlin:20260924T093000
DTSTAMP:20260420T013626
CREATED:20251126T082243Z
LAST-MODIFIED:20251204T152421Z
UID:10004920-1790236800-1790242200@www.moorenweis.de
SUMMARY:KiGa
DESCRIPTION:kleiner Hallenteil
URL:https://www.moorenweis.de/termine/kiga/2026-09-24/
CATEGORIES:Turnhallenbelegung
END:VEVENT
BEGIN:VEVENT
DTSTART;TZID=Europe/Berlin:20261001T080000
DTEND;TZID=Europe/Berlin:20261001T093000
DTSTAMP:20260420T013626
CREATED:20251126T082243Z
LAST-MODIFIED:20251204T152421Z
UID:10004921-1790841600-1790847000@www.moorenweis.de
SUMMARY:KiGa
DESCRIPTION:kleiner Hallenteil
URL:https://www.moorenweis.de/termine/kiga/2026-10-01/
CATEGORIES:Turnhallenbelegung
END:VEVENT
BEGIN:VEVENT
DTSTART;TZID=Europe/Berlin:20261008T080000
DTEND;TZID=Europe/Berlin:20261008T093000
DTSTAMP:20260420T013626
CREATED:20251126T082243Z
LAST-MODIFIED:20251204T152421Z
UID:10004922-1791446400-1791451800@www.moorenweis.de
SUMMARY:KiGa
DESCRIPTION:kleiner Hallenteil
URL:https://www.moorenweis.de/termine/kiga/2026-10-08/
CATEGORIES:Turnhallenbelegung
END:VEVENT
BEGIN:VEVENT
DTSTART;TZID=Europe/Berlin:20261015T080000
DTEND;TZID=Europe/Berlin:20261015T093000
DTSTAMP:20260420T013626
CREATED:20251126T082243Z
LAST-MODIFIED:20251204T152421Z
UID:10004923-1792051200-1792056600@www.moorenweis.de
SUMMARY:KiGa
DESCRIPTION:kleiner Hallenteil
URL:https://www.moorenweis.de/termine/kiga/2026-10-15/
CATEGORIES:Turnhallenbelegung
END:VEVENT
BEGIN:VEVENT
DTSTART;TZID=Europe/Berlin:20261022T080000
DTEND;TZID=Europe/Berlin:20261022T093000
DTSTAMP:20260420T013626
CREATED:20251126T082243Z
LAST-MODIFIED:20251204T152421Z
UID:10004924-1792656000-1792661400@www.moorenweis.de
SUMMARY:KiGa
DESCRIPTION:kleiner Hallenteil
URL:https://www.moorenweis.de/termine/kiga/2026-10-22/
CATEGORIES:Turnhallenbelegung
END:VEVENT
BEGIN:VEVENT
DTSTART;TZID=Europe/Berlin:20261029T080000
DTEND;TZID=Europe/Berlin:20261029T093000
DTSTAMP:20260420T013626
CREATED:20251126T082243Z
LAST-MODIFIED:20251204T152421Z
UID:10004925-1793260800-1793266200@www.moorenweis.de
SUMMARY:KiGa
DESCRIPTION:kleiner Hallenteil
URL:https://www.moorenweis.de/termine/kiga/2026-10-29/
CATEGORIES:Turnhallenbelegung
END:VEVENT
BEGIN:VEVENT
DTSTART;TZID=Europe/Berlin:20261105T080000
DTEND;TZID=Europe/Berlin:20261105T093000
DTSTAMP:20260420T013626
CREATED:20251126T082243Z
LAST-MODIFIED:20251204T152421Z
UID:10004926-1793865600-1793871000@www.moorenweis.de
SUMMARY:KiGa
DESCRIPTION:kleiner Hallenteil
URL:https://www.moorenweis.de/termine/kiga/2026-11-05/
CATEGORIES:Turnhallenbelegung
END:VEVENT
BEGIN:VEVENT
DTSTART;TZID=Europe/Berlin:20261112T080000
DTEND;TZID=Europe/Berlin:20261112T093000
DTSTAMP:20260420T013626
CREATED:20251126T082243Z
LAST-MODIFIED:20251204T152421Z
UID:10004927-1794470400-1794475800@www.moorenweis.de
SUMMARY:KiGa
DESCRIPTION:kleiner Hallenteil
URL:https://www.moorenweis.de/termine/kiga/2026-11-12/
CATEGORIES:Turnhallenbelegung
END:VEVENT
END:VCALENDAR